BEGIN:VCALENDAR
PRODID:-//Microsoft Corporation//Outlook MIMEDIR//EN
VERSION:2.0
METHOD:PUBLISH
BEGIN:VEVENT
DTSTART:20260520T173000
DTEND:20260520T183000
DESCRIPTION:
LOCATION:Council Chambers
SUMMARY:Active Transportation Committee
CATEGORIES:MEETING
END:VEVENT
END:VCALENDAR
