BEGIN:VCALENDAR
PRODID:-//Microsoft Corporation//Outlook MIMEDIR//EN
VERSION:2.0
METHOD:PUBLISH
BEGIN:VEVENT
DTSTART:20260528T180000
DTEND:20260528T190000
DESCRIPTION:
LOCATION:Council Chambers
SUMMARY:Library Board of Trustees
CATEGORIES:MEETING
END:VEVENT
END:VCALENDAR
